BEGIN:VCALENDAR
PRODID:-//dvv-bw.de//dvv.Portalplattform//DE
VERSION:2.0
METHOD:PUBLISH
BEGIN:VEVENT
DTSTART:20261219T230000Z
DTEND:20261219T230000Z
DTSTAMP:20260425T183552Z
UID:34230668-34230717-1797721200000
SUMMARY:Adventskonzert
LOCATION:Heilig Kreuz Kirche Oberndorf
DESCRIPTION:Adventskonzert
CLASS:PUBLIC
X-ALT-DESC;FMTTYPE=text/html:Adventskonzert
END:VEVENT
END:VCALENDAR
