BEGIN:VCALENDAR
PRODID:-//dvv-bw.de//dvv.Portalplattform//DE
VERSION:2.0
METHOD:PUBLISH
BEGIN:VEVENT
DTSTART:20261128T153000Z
DTEND:20261128T173000Z
DTSTAMP:20260425T211725Z
UID:34781867-34230712-1795820400000
SUMMARY:Adventssingen
LOCATION:Wörtelstadion\, Adlerstr. 9\, 76456 Kuppenheim
DESCRIPTION:Adventssingen
CLASS:PUBLIC
X-ALT-DESC;FMTTYPE=text/html:Adventssingen
END:VEVENT
END:VCALENDAR
