BEGIN:VCALENDAR
PRODID:-//dvv-bw.de//dvv.Portalplattform//DE
VERSION:2.0
METHOD:PUBLISH
BEGIN:VEVENT
DTSTART:20261027T140000Z
DTEND:20261027T183000Z
DTSTAMP:20260425T195010Z
UID:34781865-34230706-1793055600000
SUMMARY:Blutspende
LOCATION:Veranstaltungshalle, Badstr. 2, 76456 Kuppenheim
DESCRIPTION:Blutspende
CLASS:PUBLIC
X-ALT-DESC;FMTTYPE=text/html:Blutspende
END:VEVENT
END:VCALENDAR
