BEGIN:VCALENDAR
PRODID:-//dvv-bw.de//dvv.Portalplattform//DE
VERSION:2.0
METHOD:PUBLISH
BEGIN:VEVENT
DTSTART:20260718T080000Z
DTEND:20260718T100000Z
DTSTAMP:20260426T031110Z
UID:34781859-34227840-1784325600000
SUMMARY:Family Day
LOCATION:Wörtelstadion\, Adlerstr. 9\, 76456 Kuppenheim
DESCRIPTION:Family Day
CLASS:PUBLIC
X-ALT-DESC;FMTTYPE=text/html:Family Day
END:VEVENT
END:VCALENDAR
