BEGIN:VCALENDAR
PRODID:-//dvv-bw.de//dvv.Portalplattform//DE
VERSION:2.0
METHOD:PUBLISH
BEGIN:VEVENT
DTSTART:20261017T220000Z
DTEND:20261017T220000Z
DTSTAMP:20260425T195833Z
UID:34230656-34230705-1792274400000
SUMMARY:Faustballturnier
LOCATION:Großsporthalle\, Wörtelstr. 23\, 76456 Kuppenheim
DESCRIPTION:Faustballturnier
CLASS:PUBLIC
X-ALT-DESC;FMTTYPE=text/html:Faustballturnier
END:VEVENT
END:VCALENDAR
