BEGIN:VCALENDAR
PRODID:-//dvv-bw.de//dvv.Portalplattform//DE
VERSION:2.0
METHOD:PUBLISH
BEGIN:VEVENT
DTSTART:20260912T220000Z
DTEND:20260912T220000Z
DTSTAMP:20260426T031026Z
UID:34227948-34227847-1789250400000
SUMMARY:Finissage
LOCATION:Rathaus, Friedensplatz, 76456 Kuppenheim
DESCRIPTION:Finissage
CLASS:PUBLIC
X-ALT-DESC;FMTTYPE=text/html:Finissage
END:VEVENT
END:VCALENDAR
