BEGIN:VCALENDAR
PRODID:-//dvv-bw.de//dvv.Portalplattform//DE
VERSION:2.0
METHOD:PUBLISH
BEGIN:VEVENT
DTSTART:20261009T220000Z
DTEND:20261010T220000Z
DTSTAMP:20260425T211045Z
RRULE;FREQ=DAILY;UNTIL=20261011T215959Z
UID:34230655-34230704-1791583200000
SUMMARY:Kirchhoffest mit Kaffeestube
LOCATION:St. Sebastian-Haus, Friedrichstr. 65, 76456 Kuppenheim
DESCRIPTION:Kirchhoffest mit Kaffeestube
CLASS:PUBLIC
X-ALT-DESC;FMTTYPE=text/html:Kirchhoffest mit Kaffeestube
END:VEVENT
END:VCALENDAR
