BEGIN:VCALENDAR
PRODID:-//dvv-bw.de//dvv.Portalplattform//DE
VERSION:2.0
METHOD:PUBLISH
BEGIN:VEVENT
DTSTART:20260710T220000Z
DTEND:20260712T220000Z
DTSTAMP:20260425T170849Z
RRULE;FREQ=DAILY;UNTIL=20260713T215959Z
UID:34227940-34227839-1783720800000
SUMMARY:Musikfest
LOCATION:Veranstaltungshalle, Badstr. 2, 76456 Kuppenheim
DESCRIPTION:Musikfest
CLASS:PUBLIC
X-ALT-DESC;FMTTYPE=text/html:Musikfest
END:VEVENT
END:VCALENDAR
