BEGIN:VCALENDAR
PRODID:-//dvv-bw.de//dvv.Portalplattform//DE
VERSION:2.0
METHOD:PUBLISH
BEGIN:VEVENT
DTSTART:20261211T230000Z
DTEND:20261211T230000Z
DTSTAMP:20260425T200250Z
UID:34230666-34230715-1797030000000
SUMMARY:Nikolausfeier in der Schulturnhalle
LOCATION:Turnhalle Oberndorf, Jahnstr. 4, 76456 Kuppenheim
DESCRIPTION:Nikolausfeier in der Schulturnhalle
CLASS:PUBLIC
X-ALT-DESC;FMTTYPE=text/html:Nikolausfeier in der Schulturnhalle
END:VEVENT
END:VCALENDAR
