BEGIN:VCALENDAR
PRODID:-//dvv-bw.de//dvv.Portalplattform//DE
VERSION:2.0
METHOD:PUBLISH
BEGIN:VEVENT
DTSTART:20260702T220000Z
DTEND:20260705T220000Z
DTSTAMP:20260425T154618Z
RRULE;FREQ=DAILY;UNTIL=20260706T215959Z
UID:34227939-34227838-1783029600000
SUMMARY:Sommerfest
LOCATION:Großsporthalle\, Festzelt\, Wörtelstr. 23\, 76456 Kuppenheim
DESCRIPTION:Sommerfest
CLASS:PUBLIC
X-ALT-DESC;FMTTYPE=text/html:Sommerfest
END:VEVENT
END:VCALENDAR
