BEGIN:VCALENDAR
PRODID:-//dvv-bw.de//dvv.Portalplattform//DE
VERSION:2.0
METHOD:PUBLISH
BEGIN:VEVENT
DTSTART:20260918T220000Z
DTEND:20260918T220000Z
DTSTAMP:20260425T224424Z
UID:34227949-34227848-1789768800000
SUMMARY:Sonderausstellung im Museum
LOCATION:Heimatmuseum, Murgtalstr. 8, 76456 Kuppenheim
DESCRIPTION:Sonderausstellung im Museum
CLASS:PUBLIC
X-ALT-DESC;FMTTYPE=text/html:Sonderausstellung im Museum
END:VEVENT
END:VCALENDAR
