BEGIN:VCALENDAR
PRODID:-//dvv-bw.de//dvv.Portalplattform//DE
VERSION:2.0
METHOD:PUBLISH
BEGIN:VEVENT
DTSTART:20260910T220000Z
DTEND:20260912T220000Z
DTSTAMP:20260425T223959Z
RRULE;FREQ=DAILY;UNTIL=20260913T215959Z
UID:34227947-34227846-1789077600000
SUMMARY:Sportfest
LOCATION:Wörtelstadion\, Adlerstr. 9\, 76456 Kuppenheim
DESCRIPTION:Sportfest
CLASS:PUBLIC
X-ALT-DESC;FMTTYPE=text/html:Sportfest
END:VEVENT
END:VCALENDAR
