BEGIN:VCALENDAR
PRODID:-//dvv-bw.de//dvv.Portalplattform//DE
VERSION:2.0
METHOD:PUBLISH
BEGIN:VEVENT
DTSTART:20261111T163000Z
DTEND:20261111T183000Z
DTSTAMP:20260426T002638Z
UID:34781866-34230709-1794351600000
SUMMARY:St. Martin
LOCATION:Oberndorf, Oberndorf
DESCRIPTION:St. Martin
CLASS:PUBLIC
X-ALT-DESC;FMTTYPE=text/html:St. Martin
END:VEVENT
END:VCALENDAR
