BEGIN:VCALENDAR
PRODID:-//dvv-bw.de//dvv.Portalplattform//DE
VERSION:2.0
METHOD:PUBLISH
BEGIN:VEVENT
DTSTART:20260918T220000Z
DTEND:20260919T220000Z
DTSTAMP:20260426T031140Z
RRULE;FREQ=DAILY;UNTIL=20260920T215959Z
UID:34230651-34230700-1789768800000
SUMMARY:Stadtfest
LOCATION:Friedensplatz, Friedensplatz, 76456 Kuppenheim
DESCRIPTION:Stadtfest
CLASS:PUBLIC
X-ALT-DESC;FMTTYPE=text/html:Stadtfest
END:VEVENT
END:VCALENDAR
