BEGIN:VCALENDAR
PRODID:-//dvv-bw.de//dvv.Portalplattform//DE
VERSION:2.0
METHOD:PUBLISH
BEGIN:VEVENT
DTSTART:20261206T140000Z
DTEND:20261206T160000Z
DTSTAMP:20260425T194908Z
UID:34781868-34230713-1796511600000
SUMMARY:Turnshow
LOCATION:Großsporthalle\, Wörtelstr. 23\, 76456 Kuppenheim
DESCRIPTION:Turnshow
CLASS:PUBLIC
X-ALT-DESC;FMTTYPE=text/html:Turnshow
END:VEVENT
END:VCALENDAR
