BEGIN:VCALENDAR
PRODID:-//dvv-bw.de//dvv.Portalplattform//DE
VERSION:2.0
METHOD:PUBLISH
BEGIN:VEVENT
DTSTART:20260718T220000Z
DTEND:20260718T220000Z
DTSTAMP:20260426T014948Z
UID:34227942-34227841-1784412000000
SUMMARY:Vernissage
LOCATION:Rathaus, Friedensplatz, 76456 Kuppenheim
DESCRIPTION:Vernissage
CLASS:PUBLIC
X-ALT-DESC;FMTTYPE=text/html:Vernissage
END:VEVENT
END:VCALENDAR
