BEGIN:VCALENDAR
PRODID:-//dvv-bw.de//dvv.Portalplattform//DE
VERSION:2.0
METHOD:PUBLISH
BEGIN:VEVENT
DTSTART:20261211T230000Z
DTEND:20261212T230000Z
DTSTAMP:20260425T212736Z
RRULE;FREQ=DAILY;UNTIL=20261213T225959Z
UID:34230665-34230714-1797030000000
SUMMARY:Weihnachtsmarkt
LOCATION:Friedensplatz, Friedensplatz, 76456 Kuppenheim
DESCRIPTION:Weihnachtsmarkt
CLASS:PUBLIC
X-ALT-DESC;FMTTYPE=text/html:Weihnachtsmarkt
END:VEVENT
END:VCALENDAR
