BEGIN:VCALENDAR
PRODID:-//dvv-bw.de//dvv.Portalplattform//DE
VERSION:2.0
METHOD:PUBLISH
BEGIN:VEVENT
DTSTART:20261004T160000Z
DTEND:20261004T180000Z
DTSTAMP:20260425T225610Z
UID:34781863-34230701-1791064800000
SUMMARY:"Ganz großes Kino"
LOCATION:Pfarrkirche St. Sebastian
DESCRIPTION:"Ganz großes Kino"
CLASS:PUBLIC
X-ALT-DESC;FMTTYPE=text/html:"Ganz großes Kino"
END:VEVENT
END:VCALENDAR
